BEGIN:VCALENDAR
VERSION:2.0
PRODID:-//pretix//Anmeldung_Jugend_Hackt_-_pretix//
BEGIN:VTIMEZONE
TZID:Europe/Berlin
BEGIN:STANDARD
DTSTART:20001029T030000
RRULE:FREQ=YEARLY;BYDAY=-1SU;BYMONTH=10
TZNAME:CET
TZOFFSETFROM:+0200
TZOFFSETTO:+0100
END:STANDARD
BEGIN:DAYLIGHT
DTSTART:20000326T020000
RRULE:FREQ=YEARLY;BYDAY=-1SU;BYMONTH=3
TZNAME:CEST
TZOFFSETFROM:+0100
TZOFFSETTO:+0200
END:DAYLIGHT
END:VTIMEZONE
BEGIN:VEVENT
UID:pretix-jh-dresden-mintahackday25-0@anmeldung.jugendhackt.org
DTSTART;TZID=Europe/Berlin:20251025T100000
DTEND;TZID=Europe/Berlin:20251025T200000
DESCRIPTION:Tickets: https://anmeldung.jugendhackt.org/jh-dresden/mintahack
 day25/\nVeranstalter: Jugend hackt Sachsen
DTSTAMP:20260421T124328Z
LOCATION:PI-Haus\, Beethovenstraße 5\, 09599 Freiberg
SUMMARY:Minta*-Hackday Freiberg 2025
END:VEVENT
END:VCALENDAR
