BEGIN:VCALENDAR
VERSION:2.0
PRODID:-//pretix//Anmeldung_Jugend_Hackt_-_pretix//
BEGIN:VEVENT
UID:pretix-jh-lab-mannheim-mai-1-0@anmeldung.jugendhackt.org
DTSTART;VALUE=DATE:20220511
DTEND;VALUE=DATE:20220511
DESCRIPTION:Tickets: https://anmeldung.jugendhackt.org/jh-lab-mannheim/mai-
 1/\nVeranstalter: Jugend hackt Lab Mannheim
DTSTAMP:20260424T163331Z
LOCATION:Jugendkulturzentrum forum\, Neckarpromenade 46\, 68167 Mannheim
SUMMARY:Open Lab im Mai #1
END:VEVENT
END:VCALENDAR
