BEGIN:VCALENDAR
VERSION:2.0
PRODID:-//pretix//Anmeldung_Jugend_Hackt_-_pretix//
BEGIN:VEVENT
UID:pretix-koeln-koeln-2023-0@anmeldung.jugendhackt.org
DTSTART;VALUE=DATE:20230915
DESCRIPTION:Tickets: https://anmeldung.jugendhackt.org/koeln/koeln-2023/\nV
 eranstalter: Jugend hackt Köln
DTSTAMP:20260420T155402Z
LOCATION:Im Jugendzentrum.Digital\nKölner Jugendpark\nSachsenbergstraße\,
  51063 Köln
SUMMARY:Jugend hackt Köln 2023
END:VEVENT
END:VCALENDAR
