BEGIN:VCALENDAR
VERSION:2.0
PRODID:-//pretix//Anmeldung_Jugend_Hackt_-_pretix//
BEGIN:VTIMEZONE
TZID:Europe/Berlin
BEGIN:STANDARD
DTSTART:20001029T030000
RRULE:FREQ=YEARLY;BYDAY=-1SU;BYMONTH=10
TZNAME:CET
TZOFFSETFROM:+0200
TZOFFSETTO:+0100
END:STANDARD
BEGIN:DAYLIGHT
DTSTART:20000326T020000
RRULE:FREQ=YEARLY;BYDAY=-1SU;BYMONTH=3
TZNAME:CEST
TZOFFSETFROM:+0100
TZOFFSETTO:+0200
END:DAYLIGHT
END:VTIMEZONE
BEGIN:VEVENT
UID:pretix-lab-chemnitz-xabmh-0@anmeldung.jugendhackt.org
DTSTART;TZID=Europe/Berlin:20241207T140000
DTEND;TZID=Europe/Berlin:20241207T204200
DESCRIPTION:Tickets: https://anmeldung.jugendhackt.org/lab-chemnitz/xabmh/\
 nVeranstalter: ZZZ - Jugend hackt Lab Chemnitz
DTSTAMP:20260425T104305Z
LOCATION:Chaostreff Chemnitz e.V.
SUMMARY:Junghackertag Dez im Chaostreff Chemnitz
END:VEVENT
END:VCALENDAR
