BEGIN:VCALENDAR
VERSION:2.0
PRODID:-//pretix//Anmeldung_Jugend_Hackt_-_pretix//
BEGIN:VTIMEZONE
TZID:Europe/Berlin
BEGIN:STANDARD
DTSTART:20001029T030000
RRULE:FREQ=YEARLY;BYDAY=-1SU;BYMONTH=10
TZNAME:CET
TZOFFSETFROM:+0200
TZOFFSETTO:+0100
END:STANDARD
BEGIN:DAYLIGHT
DTSTART:20000326T020000
RRULE:FREQ=YEARLY;BYDAY=-1SU;BYMONTH=3
TZNAME:CEST
TZOFFSETFROM:+0100
TZOFFSETTO:+0200
END:DAYLIGHT
END:VTIMEZONE
BEGIN:VEVENT
UID:pretix-rhein-neckar-2023-0@anmeldung.jugendhackt.org
DTSTART;TZID=Europe/Berlin:20231117T160000
DTEND;TZID=Europe/Berlin:20231119T150000
DESCRIPTION:Tickets: https://anmeldung.jugendhackt.org/rhein-neckar/2023/\n
 Einlass: 17.11.2023 15:00\nVeranstalter: Jugend hackt Rhein Neckar
DTSTAMP:20260422T094156Z
LOCATION:Hopp Foundation\nInstitutstraße 15\n69469 Weinheim
SUMMARY:Jugend hackt Rhein-Neckar
END:VEVENT
END:VCALENDAR
